BEGIN:VCALENDAR
VERSION:2.0
PRODID:spatie/icalendar-generator
DESCRIPTION:Wydarzenia z Biblioteka Publiczna Gminy Stare Babice
X-WR-CALDESC:Wydarzenia z Biblioteka Publiczna Gminy Stare Babice
REFRESH-INTERVAL;VALUE=DURATION:PT1440M
X-PUBLISHED-TTL:PT1440M
BEGIN:VTIMEZONE
TZID:Etc/GMT+0
BEGIN:STANDARD
DTSTART:20250921T173000Z
TZOFFSETFROM:+0000
TZOFFSETTO:+0000
END:STANDARD
END:VTIMEZONE
BEGIN:VTIMEZONE
TZID:UTC
BEGIN:STANDARD
DTSTART:20250729T135338Z
TZOFFSETFROM:+0000
TZOFFSETTO:+0000
END:STANDARD
END:VTIMEZONE
BEGIN:VEVENT
UID:109-103
DTSTAMP:20260425T135338Z
SUMMARY:Czytanie na dywanie 18 czerwca
LOCATION:
ORGANIZER;CN=admin:MAILTO:mk@dreambigmedia.pl
DTSTART;TZID=Etc/GMT+0:20260618T173000
DTEND;TZID=Etc/GMT+0:20260618T183000
X-ALT-DESC;FMTTYPE=TEXT/HTML:
CATEGORIES:Wydarzenia
URL;VALUE=URI:https://biblioteka-starebabice.pl/wydarzenia/czytanie-na-dywa
 nie-18-czerwca/?mc_id=109
END:VEVENT
END:VCALENDAR