BEGIN:VCALENDAR
VERSION:2.0
PRODID:spatie/icalendar-generator
DESCRIPTION:Wydarzenia z Biblioteka Publiczna Gminy Stare Babice
X-WR-CALDESC:Wydarzenia z Biblioteka Publiczna Gminy Stare Babice
REFRESH-INTERVAL;VALUE=DURATION:PT1440M
X-PUBLISHED-TTL:PT1440M
BEGIN:VTIMEZONE
TZID:Etc/GMT+0
BEGIN:STANDARD
DTSTART:20250801T143000Z
TZOFFSETFROM:+0000
TZOFFSETTO:+0000
END:STANDARD
END:VTIMEZONE
BEGIN:VTIMEZONE
TZID:UTC
BEGIN:STANDARD
DTSTART:20250729T135811Z
TZOFFSETFROM:+0000
TZOFFSETTO:+0000
END:STANDARD
END:VTIMEZONE
BEGIN:VEVENT
UID:280-111
DTSTAMP:20260425T135811Z
SUMMARY:Dyskusyjny Klub Książki 28 kwietnia
LOCATION:
ORGANIZER;CN=admin:MAILTO:mk@dreambigmedia.pl
DTSTART;TZID=Etc/GMT+0:20260428T143000
DTEND;TZID=Etc/GMT+0:20260428T153000
X-ALT-DESC;FMTTYPE=TEXT/HTML:
CATEGORIES:Wydarzenia
URL;VALUE=URI:https://biblioteka-starebabice.pl/wydarzenia/dyskusyjny-klub-
 ksiazki-28-kwietnia/?mc_id=280
END:VEVENT
END:VCALENDAR